BEGIN:VCALENDAR
VERSION:2.0
PRODID:-//ox.ac.uk//NONSGML oxford.event//EN
X-WR-TIMEZONE:Europe/London
BEGIN:VTIMEZONE
TZID:Europe/London
X-LIC-LOCATION:Europe/London
BEGIN:DAYLIGHT
DTSTART;VALUE=DATE-TIME:19700329T010000
RRULE:FREQ=YEARLY;BYDAY=-1SU;BYMONTH=3
TZNAME:BST
TZOFFSETFROM:+0000
TZOFFSETTO:+0100
END:DAYLIGHT
BEGIN:STANDARD
DTSTART;VALUE=DATE-TIME:19701025T020000
RRULE:FREQ=YEARLY;BYDAY=-1SU;BYMONTH=10
TZNAME:GMT
TZOFFSETFROM:+0100
TZOFFSETTO:+0000
END:STANDARD
END:VTIMEZONE
BEGIN:VEVENT
SUMMARY:Online Immunisation Update Training: Wed 22 April 2026
DTSTART;TZID=Europe/London;VALUE=DATE-TIME:20260422T140000
DTEND;TZID=Europe/London;VALUE=DATE-TIME:20260422T170000
DTSTAMP;VALUE=DATE-TIME:20260421T095943Z
UID:0db435b090c84ec090eb354441d0be83
CONTACT:immunisation@ovg.ox.ac.uk
CREATED;VALUE=DATE-TIME:20260119T110652Z
DESCRIPTION:A half-day online immunisation update training course\, delive
 red via Microsoft Teams. This training is primarily targeted at healthcare
  professionals and healthcare support workers who already administer\, pro
 mote and/or advise about vaccines. 3 CPD hours of participatory learning.
LAST-MODIFIED;VALUE=DATE-TIME:20260120T114133Z
SPEAKER:Oxford Vaccine Group
END:VEVENT
END:VCALENDAR
