BEGIN:VCALENDAR
VERSION:2.0
PRODID:-//ox.ac.uk//NONSGML oxford.event//EN
X-WR-TIMEZONE:Europe/London
BEGIN:VTIMEZONE
TZID:Europe/London
X-LIC-LOCATION:Europe/London
BEGIN:DAYLIGHT
DTSTART;VALUE=DATE-TIME:19700329T010000
RRULE:FREQ=YEARLY;BYDAY=-1SU;BYMONTH=3
TZNAME:BST
TZOFFSETFROM:+0000
TZOFFSETTO:+0100
END:DAYLIGHT
BEGIN:STANDARD
DTSTART;VALUE=DATE-TIME:19701025T020000
RRULE:FREQ=YEARLY;BYDAY=-1SU;BYMONTH=10
TZNAME:GMT
TZOFFSETFROM:+0100
TZOFFSETTO:+0000
END:STANDARD
END:VTIMEZONE
BEGIN:VEVENT
SUMMARY:IIC 2021 - The Virtual Edition. Hot Topics In Infection And Immuni
 ty In Children
DTSTART;TZID=Europe/London;VALUE=DATE-TIME:20210702T000000
DTEND;TZID=Europe/London;VALUE=DATE-TIME:20210702T235959
DTSTAMP;VALUE=DATE-TIME:20260424T070813Z
UID:debe573ca7a14cefb8dc9b7f49c7aeee
CATEGORIES:research
CATEGORIES:teaching
CATEGORIES:general
CONTACT:iic@paediatrics.ox.ac.uk\, iic@paediatrics.ox.ac.uk
CREATED;VALUE=DATE-TIME:20191111T115414Z
DESCRIPTION:IIC - The ESPID-Oxford Course is a residential training course
  covering topics in paediatric infection for paediatric infectious disease
 s trainees and trainers\, and for all those who manage children with infec
 tions. This will be the 18th edition of the course.\n\nAfter having to can
 cel last year's IIC\, the Organising Committee have decided to hold IIC 20
 21 as a one-day\, intensive virtual event.
LAST-MODIFIED;VALUE=DATE-TIME:20210203T102712Z
SPEAKER:Professor Andrew J Pollard and others
END:VEVENT
END:VCALENDAR
