BEGIN:VCALENDAR
VERSION:2.0
PRODID:-//ox.ac.uk//NONSGML oxford.event//EN
X-WR-TIMEZONE:Europe/London
BEGIN:VTIMEZONE
TZID:Europe/London
X-LIC-LOCATION:Europe/London
BEGIN:DAYLIGHT
DTSTART;VALUE=DATE-TIME:19700329T010000
RRULE:FREQ=YEARLY;BYDAY=-1SU;BYMONTH=3
TZNAME:BST
TZOFFSETFROM:+0000
TZOFFSETTO:+0100
END:DAYLIGHT
BEGIN:STANDARD
DTSTART;VALUE=DATE-TIME:19701025T020000
RRULE:FREQ=YEARLY;BYDAY=-1SU;BYMONTH=10
TZNAME:GMT
TZOFFSETFROM:+0100
TZOFFSETTO:+0000
END:STANDARD
END:VTIMEZONE
BEGIN:VEVENT
SUMMARY:Online Introduction to Immunisation Training - 6 October 2021
DTSTART;TZID=Europe/London;VALUE=DATE-TIME:20211006T091500
DTEND;TZID=Europe/London;VALUE=DATE-TIME:20211006T150000
DTSTAMP;VALUE=DATE-TIME:20260424T070454Z
UID:fb039c2eeaaf406bb4d17be896975630
CONTACT:events@ovg.ox.ac.uk
CREATED;VALUE=DATE-TIME:20200810T124237Z
DESCRIPTION:This training is for general practice nurses and other health 
 professionals who are new to the role of administering and promoting and /
  or advising about vaccines.
LAST-MODIFIED;VALUE=DATE-TIME:20210617T111218Z
SPEAKER:Immunisation specialists in the Thames Valley
END:VEVENT
END:VCALENDAR
